BEGIN:VCALENDAR
VERSION:2.0
PRODID:-//eventon.com NONSGML v1.0//EN
CALSCALE:GREGORIAN
METHOD:PUBLISH
BEGIN:VEVENT
UID:69e92e54ac3f2
DTSTAMP:20260423T062348
DTSTART:20250801T225000Z
DTEND:20250807T051000Z
TZID:Australia/Melbourne
LOCATION:
SUMMARY:Japanese Sister School Visit
DESCRIPTION: Japanese Sister School Visit\nhttps://www.upweyhs.vic.edu.au/events/japanese-sister-school-visit/
URL:https://www.upweyhs.vic.edu.au/events/japanese-sister-school-visit/
END:VEVENT
END:VCALENDAR